Workbook

Sheet 請求書
AO1: （業者控①）
AG2: 2026 | AI2: 年 | AL2: 月 | AM2: 15 | AO2: 日
A3: 請 求 書
A4: 沢設備工事株式会社 御中
AC5: 【請求者】
A6: 請求金額 | E6: =IF(H21="","",H21) -> 0 | AC6: 取引先コード
T7: 〇 | AC7: 住 所 | AH7: -
A8: 工 事 名 | Q8: 契約分
A9: 工 種/品 名 | Q9: 無契約分 | AC9: 商号又は
AC10: 名 称
A11: 下記の通り御請求申し上げます。 | AC11: 電話番号 | AI11: - | AL11: -
AC12: FAX番号 | AI12: - | AL12: -
H13: 金 額 | AC13: 登録番号 | AF13: T
B14: 注文金額
B15: 既受領金額 | AC15: ※新規でのお取引や口座変更があった場合にのみご記入ください。
B16: 今回請求金額 | AC16: 金融機関
B17: 今回迄累計 | AC17: 支店名
B18: 残高 | H18: =IF(H15="","",H15-H16-H17) | AC18: （フリガナ）口座名義
B19: 控除額 | H19: =IF(H17="","",H17*10%)
B20: 消費税 | E20: 0.1 | H20: =+H16*0.1 -> 0 | AC20: 預金種別 | AF20: 普通 | AH20: 口座番号
B21: 総計 | H21: =+H16+H20 -> 0
A22: 毎月１５日締切 ２０日必着 翌月１５日支払（金融機関が休みの場合は後日に支払となります。）
AO23: （経理部控②）
AF24: 西暦 | AG24: =IF(請求書!$AG$2="","",請求書!$AG$2) -> 2026 | AI24: 年 | AJ24: =IF(請求書!$AJ$2="","",請求書!$AJ$2) | AL24: 月 | AM24: =+AM2 -> 15 | AO24: 日
A25: 請 求 書
A26: 沢設備工事株式会社 御中
AC27: 【請求者】
A28: 請求金額 | E28: =IF($E$6="","",$E$6) -> 0 | AC28: 取引先コード | AF28: =IF($AF$6="","",$AF$6)
AC29: 住 所 | AF29: 〒 | AG29: =IF($AF$7="","",$AF$7) | AI29: - | AJ29: =IF($AI$7="","",$AI$7)
A30: 工 事 名 | E30: =IF($E$8="","",$E$8) | Q30: 契約分 | T30: =IF($T$8="","",$T$8) | AF30: =IF($AF$8="","",$AF$8)
A31: 工 種/品 名 | E31: =IF($E$9="","",$E$9) | Q31: 無契約分 | T31: =IF($T$9="","",$T$9) | AC31: 商号又は | AF31: =IF($AF$9="","",$AF$9)
AC32: 名 称 | AF32: =IF(請求書!$AF$9="","",請求書!$AF$9)
A33: 下記の通り御請求申し上げます。 | AC33: 電話番号 | AF33: =IF($AF$11="","",$AF$11) | AI33: - | AJ33: =IF($AJ$11="","",$AJ$11) | AL33: - | AM33: =IF($AM$11="","",$AM$11)
AC34: FAX番号 | AF34: =IF($AF$12="","",$AF$12) | AI34: - | AJ34: =IF($AJ$12="","",$AJ$12) | AL34: - | AM34: =IF($AM$12="","",$AM$12)
H35: 金 額(税抜) | AC35: 登録番号 | AF35: T | AG35: =IF($AG$13="","",$AG$13)
B36: 契約金額 | H36: =IF($H$14="","",$H$14)
B37: 既受領金額 | H37: =IF($H$15="","",$H$15)
B38: 今回請求金額 | H38: =IF($H$16="","",$H$16)
B39: 今回迄累計 | H39: =IF($H$17="","",$H$17)
B40: 残高 | H40: =IF($H$18="","",$H$18)
...

Sheet 請求明細書
AM1: （経理控） | AN1: ※入力上の注意
AI2: 契約分 | AL2: =IF(請求書!$T$8="","",請求書!$T$8) | AN2: 各現場ごとに作成してください。
AI3: 無契約分 | AL3: =IF(請求書!$T$9="","",請求書!$T$9) | AN3: 契約ごとに作成してください。
AN4: 交通費・材料代・消耗品等の請求は領収書を添付してください。
A5: 工 事 名 | E5: =IF(請求書!$E$8="","",請求書!$E$8) | Z5: 業者名 | AD5: =IF(請求書!$AF$9="","",請求書!$AF$9)
A7: 月日 | C7: 工事内容 | K7: 数 量 | M7: 単 位 | O7: 単 価 | T7: 合計 | AD7: 社内査定
AD8: 保留 | AH8: (%) | AI8: 値引
T9: =+O9*K9 -> 0
T10: =+O10*K10 -> 0
T11: =+O11*K11 -> 0
T12: =+O12*K12 -> 0
T13: =+O13*K13 -> 0
T14: =+O14*K14 -> 0
T15: =+O15*K15 -> 0
T16: =+O16*K16 -> 0
T17: =+O17*K17 -> 0
T18: =+O18*K18 -> 0
T19: =+O19*K19 -> 0
T20: =+O20*K20 -> 0
... T25: =+O25*K25 -> 0
A26: 小 計 | T26: =IF($T$9="","",SUM($T$9:$Y$25)) -> 0 | Z26: =IF($Z$9="","",SUM($Z$9:$AC$25))
AM27: （経理部控②）
AI28: 契約分 | AL28: =IF($AL$2="","",$AL$2)
AI29: 無契約分 | AL29: =IF($AL$3="","",$AL$3)
A30: 工事コード | E30: =IF($E$4="","",$E$4) | Z30: 取引先コード | AD30: =IF($AD$4="","",$AD$4)
A31: 工 事 名 | E31: =IF($E$5="","",$E$5) | J31: =IF(J5="","",J5) | O31: =IF(O5="","",O5) | Z31: 業者名 | AD31: =IF($AD$5="","",$AD$5) | AI31: =IF(AI5="","",AI5)
A33: 月日 | C33: 工事内容 | K33: 数 量 | M33: 単 位 | O33: 単 価 | T33: 今 月 請 求 金 額 | Z33: 累計出来高 | AD33: 社内査定
AD34: 保留 | AH34: (%) | AI34: 値引
A35: =IF($A$9="","",$A$9) | C35: =IF($C$9="","",$C$9) | E35: =IF(E9="","",E9) | G35: =IF(G9="","",G9) | I35: =IF(I9="","",I9) | K35: =IF($K$9="","",$K$9) | M35: =IF($M$9="","",$M$9) | O35: =IF($O$9="","",$O$9) | T35: =IF($T$9="","",$T$9) -> 0 | Z35: =IF($Z$9="","",$Z$9) | AD35: =IF($AD$9="","",$AD$9) | AI35: =IF($AI$9="","",$AI$9)
A36: =IF($A$10="","",$A$10) | C36: =IF($C$10="","",$C$10) | E36: =IF(E10="","",E10) | G36: =IF(G10="","",G10) | I36: =IF(I10="","",I10) | K36: =IF($K$10="","",$K$10) | M36: =IF($M$10="","",$M$10) | O36: =IF($O$10="","",$O$10) | T36: =IF($T$10="","",$T$10) -> 0 | Z36: =IF($Z$10="","",$Z$10) | AD36: =IF($AD$10="","",$AD$10) | AI36: =IF($AI$10="","",$AI$10)
A37: =IF($A$11="","",$A$11) | C37: =IF($C$11="","",$C$11) | E37: =IF(E11="","",E11) | G37: =IF(G11="","",G11) | I37: =IF(I11="","",I11) | K37: =IF($K$11="","",$K$11) | M37: =IF($M$11="","",$M$11) | O37: =IF($O$11="","",$O$11) | T37: =IF($T$11="","",$T$11) -> 0 | Z37: =IF($Z$11="","",$Z$11) | AD37: =IF($AD$11="","",$AD$11) | AI37: =IF($AI$11="","",$AI$11)
A38: =IF($A$12="","",$A$12) | C38: =IF($C$12="","",$C$12) | E38: =IF(E12="","",E12) | G38: =IF(G12="","",G12) | I38: =IF(I12="","",I12) | K38: =IF($K$12="","",$K$12) | M38: =IF($M$12="","",$M$12) | O38: =IF($O$12="","",$O$12) | T38: =IF($T$12="","",$T$12) -> 0 | Z38: =IF($Z$12="","",$Z$12) | AD38: =IF($AD$12="","",$AD$12) | AI38: =IF($AI$12="","",$AI$12)
A39: =IF($A$13="","",$A$13) | C39: =IF($C$13="","",$C$13) | E39: =IF(E13="","",E13) | G39: =IF(G13="","",G13) | I39: =IF(I13="","",I13) | K39: =IF($K$13="","",$K$13) | M39: =IF($M$13="","",$M$13) | O39: =IF($O$3="","",$O$13) | T39: =IF($T$13="","",$T$13) -> 0 | Z39: =IF($Z$13="","",$Z$13) | AD39: =IF($AD$13="","",$AD$13) | AI39: =IF($AI$13="","",$AI$13)
A40: =IF($A$14="","",$A$14) | C40: =IF($C$14="","",$C$14) | E40: =IF(E14="","",E14) | G40: =IF(G14="","",G14) | I40: =IF(I14="","",I14) | K40: =IF($K$14="","",$K$14) | M40: =IF($M$14="","",$M$14) | O40: =IF($O$14="","",$O$14) | T40: =IF($T$14="","",$T$14) -> 0 | Z40: =IF($Z$14="","",$Z$14) | AD40: =IF($AD$14="","",$AD$14) | AI40: =IF($AI$14="","",$AI$14)
A41: =IF($A$15="","",$A$15) | C41: =IF($C$15="","",$C$15) | E41: =IF(E15="","",E15) | G41: =IF(G15="","",G15) | I41: =IF(I15="","",I15) | K41: =IF($K$15="","",$K$15) | M41: =IF($M$15="","",$M$15) | O41: =IF($O$15="","",$O$15) | T41: =IF($T$15="","",$T$15) -> 0 | Z41: =IF($Z$15="","",$Z$15) | AD41: =IF($AD$15="","",$AD$15) | AI41: =IF($AI$15="","",$AI$15)
A42: =IF($A$16="","",$A$16) | C42: =IF($C$16="","",$C$16) | E42: =IF(E16="","",E16) | G42: =IF(G16="","",G16) | I42: =IF(I16="","",I16) | K42: =IF($K$16="","",$K$16) | M42: =IF($M$16="","",$M$16) | O42: =IF($O$16="","",$O$16) | T42: =IF($T$16="","",$T$16) -> 0 | Z42: =IF($Z$16="","",$Z$16) | AD42: =IF($AD$16="","",$AD$16) | AI42: =IF($AI$16="","",$AI$16)
A43: =IF($A$17="","",$A$17) | C43: =IF($C$17="","",$C$17) | E43: =IF(E17="","",E17) | G43: =IF(G17="","",G17) | I43: =IF(I17="","",I17) | K43: =IF($K$17="","",$K$17) | M43: =IF($M$17="","",$M$17) | O43: =IF($O$17="","",$O$17) | T43: =IF($T$17="","",$T$17) -> 0 | Z43: =IF($Z$17="","",$Z$17) | AD43: =IF($AD$17="","",$AD$17) | AI43: =IF($AI$17="","",$AI$17)
A44: =IF($A$18="","",$A$18) | C44: =IF($C$18="","",$C$18) | E44: =IF(E18="","",E18) | G44: =IF(G18="","",G18) | I44: =IF(I18="","",I18) | K44: =IF($K418="","",$K$18) | M44: =IF($M$18="","",$M$18) | O44: =IF($O$18="","",$O$18) | T44: =IF($T$18="","",$T$18) -> 0 | Z44: =IF($Z$18="","",$Z$18) | AD44: =IF($AD$18="","",$AD$18) | AI44: =IF($AI$18="","",$AI$18)
A45: =IF($A$19="","",$A$19) | C45: =IF($C$19="","",$C$19) | E45: =IF(E19="","",E19) | G45: =IF(G19="","",G19) | I45: =IF(I19="","",I19) | K45: =IF($K$19="","",$K$19) | M45: =IF($M$19="","",$M$19) | O45: =IF($O$19="","",$O$19) | T45: =IF($T$19="","",$T$19) -> 0 | Z45: =IF($Z$19="","",$Z$19) | AD45: =IF($AD$19="","",$AD$19) | AI45: =IF($AI$19="","",$AI$19)
A46: =IF($A$20="","",$A$20) | C46: =IF($C$20="","",$C$20) | E46: =IF(E20="","",E20) | G46: =IF(G20="","",G20) | I46: =IF(I20="","",I20) | K46: =IF($K$20="","",$K$20) | M46: =IF($M$20="","",$M$20) | O46: =IF($O$20="","",$O$20) | T46: =IF($T$20="","",$T$20) -> 0 | Z46: =IF($Z$20="","",$Z$20) | AD46: =IF($AD$20="","",$AD$20) | AI46: =IF($AI$20="","",$AI$20)
...
